BEGIN:VCALENDAR
VERSION:2.0
PRODID:-//Les 7 Vents - ECPv6.6.4//NONSGML v1.0//EN
CALSCALE:GREGORIAN
METHOD:PUBLISH
X-ORIGINAL-URL:https://www.7vents.fr
X-WR-CALDESC:évènements pour Les 7 Vents
REFRESH-INTERVAL;VALUE=DURATION:PT1H
X-Robots-Tag:noindex
X-PUBLISHED-TTL:PT1H
BEGIN:VTIMEZONE
TZID:Europe/Paris
BEGIN:DAYLIGHT
TZOFFSETFROM:+0100
TZOFFSETTO:+0200
TZNAME:CEST
DTSTART:20260329T010000
END:DAYLIGHT
BEGIN:STANDARD
TZOFFSETFROM:+0200
TZOFFSETTO:+0100
TZNAME:CET
DTSTART:20261025T010000
END:STANDARD
END:VTIMEZONE
BEGIN:VEVENT
DTSTART;VALUE=DATE:20260115
DTEND;VALUE=DATE:20260131
DTSTAMP:20260425T130748
CREATED:20260413T125831Z
LAST-MODIFIED:20260413T125848Z
UID:10895-1768435200-1769817599@www.7vents.fr
SUMMARY:FORMATION MOE - Construire en chanvre
DESCRIPTION:Formation\n”  FORMATION MOE – Construire en chanvre“\n\n  \n  \n\nDate : 15\, 16\, 29 et 30 janvier\nDurée : 4 journée (28h)\nLieu :  territoire du PNR du Perche – Nocé\nOrganisme de formation : SCIC les 7 Vents\nFormateurs : Construire en Chanvre – Mathis RAGER / Luc VAN NIEUWENHUYZE – Formateur et expert\nbâti ancien\nPublics cibles : Professionnel·les de la maîtrise d’œuvre (conception\, exécution) et de la mise en œuvre (artisan·es\, entreprises du BTP\, conducteur·rices de travaux …).\nConditions : 9 participants minimum et 14 maximum\nPrix : 1500 euros HT –  Pour les modalités de prises en charges nous contacter\n\nFormation prise en charge par les fonds de formation (OPCO)\nAuto-évaluation à priori et posteriori afin d’évaluer la montée en compétence\n\n  \nObjectifs de cette formation \n1. Découvrir le matériau chanvre\, ses intérêts\, ses spécificités\n2. Concevoir un ouvrage ou une construction adaptée aux diverses exigences\n3. Identifier les modes de production et contraintes de chantier\n4. Construire une démarche prescriptive et une communication avec l’ensemble des acteurs\n5. Superviser la réalisation d’ouvrages en béton de chanvre \n\nDéroulé de la formation\nDéroulé de la journée\nModule 1 : Les bases pour construire en chanvre\n• Découvrir les bétons de chanvre\n• Connaître les règles professionnelles et comprendre leur utilité\n• Connaître toutes les possibilités d’usage du chanvre\n• Connaître les isolants à base de fibre de chanvre\, leurs caractéristiques et\nspécificités d’usage\n• Connaître les ressources humaines permettant le développement d’une activités\nchanvre bâtiment \nModule 2 : Connaissances approfondies des bétons de chanvre\n• Avoir une compréhension globale des phénomènes thermiques dans les\nouvrages et matériaux de construction\n• Maîtriser les caractéristiques communes des bétons de chanvre\, nécessaires\npour concevoir des ouvrages\n• Appliquer les connaissances acquises du béton de chanvre pour concevoir un\nouvrage\n• TP « Mise en œuvre »\n• Connaître les modes de production et les contraintes de chantier \nModule 3 : Éléments de conception d’ouvrage en chanvre\n• Être en capacité de concevoir des ouvrages en béton de chanvre\, par nature\nd’ouvrage\n• Connaître les intérêts spécifiques dans le bâti ancien\n• Connaître les caractéristiques environnementales des ouvrages\n• Appliquer les connaissances acquises pour concevoir un ouvrage \nModule 4 : Prescrire et superviser la réalisation d’ouvrages en chanvre\n• Développer un argumentaire commercial et une communication adaptée avec\nles différents acteurs du projet\n• Savoir réaliser la prescription\n• Savoir optimiser les coûts\n• Savoir suivre la réalisation des ouvrages\n• Evaluation des connaissances et de la formation (QUIZZ et auto-évaluation à\npriori et à posteriori pour analyser la montée en compétence) \n  \nInscription / Nous contacter :\nAdministratif : SCIC Les 7 Vents – mail : yohan.jeanne@7vents.eu / Téléphone : 02.33.19.01.38\nFormation : Arpe Normandie : carole.lemans@arpenormandie.org \n  \n  \nVoir la fiche de formation \n Se pré-inscrire
URL:https://www.7vents.fr/formation/formation-moe-construire-en-chanvre-2/
LOCATION:Maison du Parc – Manoir de Courboyer 61340 Nocé\, Maison du Parc - Manoir de Courboyer\, Nocé\, 61340\, France
ORGANIZER;CN="SCIC Les 7 vents":MAILTO:yohan.jeanne@7vents.eu
END:VEVENT
END:VCALENDAR