BEGIN:VCALENDAR
VERSION:2.0
PRODID:-//Les 7 Vents - ECPv6.6.4//NONSGML v1.0//EN
CALSCALE:GREGORIAN
METHOD:PUBLISH
X-ORIGINAL-URL:https://www.7vents.fr
X-WR-CALDESC:évènements pour Les 7 Vents
REFRESH-INTERVAL;VALUE=DURATION:PT1H
X-Robots-Tag:noindex
X-PUBLISHED-TTL:PT1H
BEGIN:VTIMEZONE
TZID:Europe/Paris
BEGIN:DAYLIGHT
TZOFFSETFROM:+0100
TZOFFSETTO:+0200
TZNAME:CEST
DTSTART:20250330T010000
END:DAYLIGHT
BEGIN:STANDARD
TZOFFSETFROM:+0200
TZOFFSETTO:+0100
TZNAME:CET
DTSTART:20251026T010000
END:STANDARD
END:VTIMEZONE
BEGIN:VEVENT
DTSTART;VALUE=DATE:20250520
DTEND;VALUE=DATE:20250521
DTSTAMP:20260421T182702
CREATED:20260128T150241Z
LAST-MODIFIED:20260311T090629Z
UID:10837-1747699200-1747785599@www.7vents.fr
SUMMARY:Bénévoles\, attrapez-les tous ! Mettre en place une stratégie de  mobilisation de vos futurs bénévoles
DESCRIPTION:Formation\n” Bénévoles\, attrapez-les tous !\nMettre en place une stratégie de\nmobilisation de vos futurs bénévoles”\n\n  \n  \n\nDate : 20 mai 2025\nDurée : 1 journée (7h)\nLieu : Maison des Solidarités\, 7 rue Daniel Huet Caen\n\nOrganisme de formation : SCIC les 7 Vents\nFormateurs : Jean B. CAZIN et Augustin CROCIS\nPublics cibles : salariés et bénévoles\nConditions : 4 participants minimum et 15 maximum\nPrix : Pour les salariés : financement via l’OPCO (Uniformation\, etc.) : 300 euros HT\nPour les bénévoles : formation gratuite (dans la limite des places disponibles)\n\nFormation prise en charge par les fonds de formation (OPCO)\nAuto-évaluation à priori et posteriori pour évaluer la montée en compétence\n\n  \nObjectifs de cette formation \n\n Construire une stratégie de mobilisation de nouveau bénévole\nMobiliser en valorisant les compétences\nMaitriser des outils de mobilisation\n\n\nDéroulé de la formation\nDéroulé de la journée\nEntre apports théoriques\, échanges collectifs et mises en situation\, voici différents éléments abordés lors de cette formation :\n-Comprendre les nouveaux facteurs d’engagement bénévole en France\n-Identifier les plus-values de la structure pour impliquer des bénévoles\n-Adapter une stratégie de mobilisation adaptée à sa structure (activités\, raison d’être)\n-Mobiliser de nouvelles personnes en cohérence avec les besoins de la structure\n-Connaître et maîtriser des outils de mobilisation\, notamment pour les usagers de la structure \n\n->Auto-évaluation\nLa touche ARDES :\nFaire sérieusement\, sans se prendre au sérieux !\nÉducation populaire et pédagogie active\nThéories\, retours d’expériences et construction collective\n  \nInscription / Nous contacter :\nAdministratif : SCIC Les 7 Vents – mail : yohan.jeanne@7vents.eu / Téléphone : 02.33.19.01.38\nFormation : ARDES : contact@ardes.org \n  \n  \nVoir la fiche de formation \n Se pré-inscrire
URL:https://www.7vents.fr/formation/benevoles-attrapez-les-tous-mettre-en-place-une-strategie-de-mobilisation-de-vos-futurs-benevoles/
LOCATION:Maison du parc du PNR des Boucles de la Seine Normande (76)\, 692 Rue du Petit pont\, Notre-Dame-de-Bliquetuit\, NORMANDIE\, 76940\, France
ORGANIZER;CN="SCIC Les 7 vents":MAILTO:yohan.jeanne@7vents.eu
END:VEVENT
END:VCALENDAR